BEGIN:VCALENDAR
VERSION:2.0
PRODID:-//Jazzclub Leipzig e.V. //NONSGML Events //EN
CALSCALE:GREGORIAN
X-WR-CALNAME:Jazzclub Leipzig e.V.
BEGIN:VEVENT
X-CREATED:20260310T135336Z
UID:37919
DTEND;VALUE=DATE:20260419T220000
DTSTART;VALUE=DATE:20260419T200000
DTSTAMP:20260419T133427Z
LOCATION:die naTo\, Karl-Liebknecht-Straße 46\, 04275 Leipzig
DESCRIPTION:Das Problem mit musikalischen Kategorisierungen ist seit jeher, dass sie sich erst ex-post-facto, also nach Erscheinen eines neuen Phänomens herauskristallisieren können. Insofern hinken sie der Realität, die sie einzufangen versuchen, immer ein Stück hinterher.
SUMMARY:Jazzclub Live: Lucia Cadotsch »LIUN«
ORGANIZER:Jazzclub Leipzig e.V.
URL;VALUE=URI:https://www.jazzclub-leipzig.de/kategorie-jazzkalender/jazzclub-live-lucia-cadotsch-liun/
TRANSP:OPAQUE
BEGIN:VALARM
ACTION:DISPLAY
TRIGGER;VALUE=DATE-TIME:20260419T190000Z
DESCRIPTION:Erinnerung an Jazzclub Live: Lucia Cadotsch »LIUN«
END:VALARM
END:VEVENT
END:VCALENDAR
