BEGIN:VCALENDAR
VERSION:2.0
PRODID:-//Jazzclub Leipzig e.V. //NONSGML Events //EN
CALSCALE:GREGORIAN
X-WR-CALNAME:Jazzclub Leipzig e.V.
BEGIN:VEVENT
X-CREATED:20260311T075306Z
UID:37915
DTEND;VALUE=DATE:20260413T220000
DTSTART;VALUE=DATE:20260413T200000
DTSTAMP:20260421T084640Z
LOCATION:die naTo\, Karl-Liebknecht-Straße 46\, 04275 Leipzig
DESCRIPTION:Von Berlin nach Danzig und zurück: Das Duo Gołos x Jasinka hat sich gegenwärtig zum elektro-akustischen Geheimtipp der jungen deutsch-polnischen Jazzszene entwickelt.
SUMMARY:Jazzclub Live: Gołos x Jasinska
ORGANIZER:Jazzclub Leipzig e.V.
URL;VALUE=URI:https://www.jazzclub-leipzig.de/kategorie-jazzkalender/jazzclub-live-golos-x-jasinska/
TRANSP:OPAQUE
BEGIN:VALARM
ACTION:DISPLAY
TRIGGER;VALUE=DATE-TIME:20260413T190000Z
DESCRIPTION:Erinnerung an Jazzclub Live: Gołos x Jasinska
END:VALARM
END:VEVENT
END:VCALENDAR
