BEGIN:VCALENDAR
VERSION:2.0
PRODID:-//Jazzclub Leipzig e.V. //NONSGML Events //EN
CALSCALE:GREGORIAN
X-WR-CALNAME:Jazzclub Leipzig e.V.
BEGIN:VEVENT
X-CREATED:20260310T134543Z
UID:37910
DTEND;VALUE=DATE:20260411T220000
DTSTART;VALUE=DATE:20260411T200000
DTSTAMP:20260419T133428Z
LOCATION:Kulturnhalle\, Connewitzer Str. 6\, 04289 Leipzig
DESCRIPTION:Wir leben in paradoxen Zeiten. Was sich etwa daran zeigt, dass sich die Qualität von Musik gegenwärtig nahezu ausschließlich an ihrer Konsumerabilität zu bemessen scheint.
SUMMARY:Jazzclub Live: Simon Lucaciu’s Capacity Of Movement
ORGANIZER:Jazzclub Leipzig e.V.
URL;VALUE=URI:https://www.jazzclub-leipzig.de/kategorie-jazzkalender/jazzclub-live-simon-lucacius-capacity-of-movement/
TRANSP:OPAQUE
BEGIN:VALARM
ACTION:DISPLAY
TRIGGER;VALUE=DATE-TIME:20260411T190000Z
DESCRIPTION:Erinnerung an Jazzclub Live: Simon Lucaciu’s Capacity Of Movement
END:VALARM
END:VEVENT
END:VCALENDAR
