BEGIN:VCALENDAR
VERSION:2.0
PRODID:-//Jazzclub Leipzig e.V. //NONSGML Events //EN
CALSCALE:GREGORIAN
X-WR-CALNAME:Jazzclub Leipzig e.V.
BEGIN:VEVENT
X-CREATED:20260223T111006Z
UID:37828
DTEND;VALUE=DATE:20260313T213000
DTSTART;VALUE=DATE:20260313T193000
DTSTAMP:20260422T092746Z
LOCATION:Ring-Café
DESCRIPTION:Mit »..es ist 1996…« lässt sich nicht nur der deutsche Hip-Hop-Klassiker »Jein« von Fettes Brot losrappen. Nein, auch die Geschichte vom LeipJAZZig e.V. erzählt sich so.
SUMMARY:Festival LeipJAZZig (13.-15.03.2026)
ORGANIZER:Jazzclub Leipzig e.V.
URL;VALUE=URI:https://www.jazzclub-leipzig.de/kategorie-jazzkalender/festival-leipjazzig-13-15-03-2026/
TRANSP:OPAQUE
BEGIN:VALARM
ACTION:DISPLAY
TRIGGER;VALUE=DATE-TIME:20260313T183000Z
DESCRIPTION:Erinnerung an Festival LeipJAZZig (13.-15.03.2026)
END:VALARM
END:VEVENT
END:VCALENDAR
