BEGIN:VCALENDAR
VERSION:2.0
PRODID:-//Jazzclub Leipzig e.V. //NONSGML Events //EN
CALSCALE:GREGORIAN
X-WR-CALNAME:Jazzclub Leipzig e.V.
BEGIN:VEVENT
X-CREATED:20260128T155105Z
UID:37652
DTEND;VALUE=DATE:20260218T220000
DTSTART;VALUE=DATE:20260218T200000
DTSTAMP:20260422T105942Z
LOCATION:Horns Erben
DESCRIPTION:Allzu oft werden Tradition und Avantgarde in feuilletonistischen Debatten als unversöhnliche Antagonismen in Stellung gebracht. Dass diese Annahme nicht nur verkürzt, sondern völlig fehlgeleitet ist, bezeugt nicht zuletzt das Werk der dänischen Komponistin Josefine Opsahl.
SUMMARY:Josefine Opsahl
ORGANIZER:Jazzclub Leipzig e.V.
URL;VALUE=URI:https://www.jazzclub-leipzig.de/kategorie-jazzkalender/josefine-opsahl/
TRANSP:OPAQUE
BEGIN:VALARM
ACTION:DISPLAY
TRIGGER;VALUE=DATE-TIME:20260218T190000Z
DESCRIPTION:Erinnerung an Josefine Opsahl
END:VALARM
END:VEVENT
END:VCALENDAR
