BEGIN:VCALENDAR
VERSION:2.0
PRODID:-//Jazzclub Leipzig e.V. //NONSGML Events //EN
CALSCALE:GREGORIAN
X-WR-CALNAME:Jazzclub Leipzig e.V.
BEGIN:VEVENT
X-CREATED:20260128T141747Z
UID:37579
DTEND;VALUE=DATE:20260201T200000
DTSTART;VALUE=DATE:20260201T180000
DTSTAMP:20260422T105938Z
LOCATION:Theaterhaus Schille
DESCRIPTION:Er war einer der zentralen Akteure der DDR-Jazzszene, sein Spiel unter Tausenden zu erkennen. Nun ist der große Saxofonist Manfred Hering gestorben.
SUMMARY:LeipJAZZig-Gedenkkonzert für Manfred Hering
ORGANIZER:Jazzclub Leipzig e.V.
URL;VALUE=URI:https://www.jazzclub-leipzig.de/kategorie-jazzkalender/leipjazzig-gedenkkonzert-fuer-manfred-hering/
TRANSP:OPAQUE
BEGIN:VALARM
ACTION:DISPLAY
TRIGGER;VALUE=DATE-TIME:20260201T170000Z
DESCRIPTION:Erinnerung an LeipJAZZig-Gedenkkonzert für Manfred Hering
END:VALARM
END:VEVENT
END:VCALENDAR
