BEGIN:VCALENDAR
VERSION:2.0
PRODID:-//Jazzclub Leipzig e.V. //NONSGML Events //EN
CALSCALE:GREGORIAN
X-WR-CALNAME:Jazzclub Leipzig e.V.
BEGIN:VEVENT
X-CREATED:20251021T083949Z
UID:37009
DTEND;VALUE=DATE:20251027T220000
DTSTART;VALUE=DATE:20251027T200000
DTSTAMP:20260420T131652Z
LOCATION:Kulturhof Gohlis
DESCRIPTION:Obgleich die Musiker verschiedenen Generationen angehören verständigen sie sich mit viel Liebe und Respekt auf ein Repertoire aus Werken bekannter Protagonisten des Jazz. Das Trio spielt dabei nicht einfach Stücke, […]
SUMMARY:Trio:Blur
ORGANIZER:Jazzclub Leipzig e.V.
URL;VALUE=URI:https://www.jazzclub-leipzig.de/kategorie-jazzkalender/trioblur/
TRANSP:OPAQUE
BEGIN:VALARM
ACTION:DISPLAY
TRIGGER;VALUE=DATE-TIME:20251027T190000Z
DESCRIPTION:Erinnerung an Trio:Blur
END:VALARM
END:VEVENT
END:VCALENDAR
