BEGIN:VCALENDAR
VERSION:2.0
PRODID:-//Jazzclub Leipzig e.V. //NONSGML Events //EN
CALSCALE:GREGORIAN
X-WR-CALNAME:Jazzclub Leipzig e.V.
BEGIN:VEVENT
X-CREATED:20250930T081644Z
UID:36809
DTEND;VALUE=DATE:20251019T210000
DTSTART;VALUE=DATE:20251019T190000
DTSTAMP:20260420T113242Z
LOCATION:Besser Leben
DESCRIPTION:Albumrelease Konzert der besonderen Art. Denn im letzten Jahr wurde dieses Album an einem einzigen Abend aus dem Stegreif hervorgezaubert. Dieses wird nun ausschließlich auf LP und CD veröffentlicht, um […]
SUMMARY:Malo Moray EMBRACE
ORGANIZER:Jazzclub Leipzig e.V.
URL;VALUE=URI:https://www.jazzclub-leipzig.de/kategorie-jazzkalender/malo-moray-embrace/
TRANSP:OPAQUE
BEGIN:VALARM
ACTION:DISPLAY
TRIGGER;VALUE=DATE-TIME:20251019T180000Z
DESCRIPTION:Erinnerung an Malo Moray EMBRACE
END:VALARM
END:VEVENT
END:VCALENDAR
