BEGIN:VCALENDAR
VERSION:2.0
PRODID:-//Jazzclub Leipzig e.V. //NONSGML Events //EN
CALSCALE:GREGORIAN
X-WR-CALNAME:Jazzclub Leipzig e.V.
BEGIN:VEVENT
X-CREATED:20250930T074255Z
UID:36807
DTEND;VALUE=DATE:20251003T220000
DTSTART;VALUE=DATE:20251003T200000
DTSTAMP:20260420T113238Z
LOCATION:Kulturnhalle
DESCRIPTION:Das Trio um den in München lebenden Schlagzeuger und Komponisten Simon Popp schlägt sich mit einem feinen Gespür für Timing und Stimmung durch polyrhythmische Strukturen. Es kontrastiert erdige und luftige […]
SUMMARY:Simon Popp Trio
ORGANIZER:Jazzclub Leipzig e.V.
URL;VALUE=URI:https://www.jazzclub-leipzig.de/kategorie-jazzkalender/simon-popp-trio/
TRANSP:OPAQUE
BEGIN:VALARM
ACTION:DISPLAY
TRIGGER;VALUE=DATE-TIME:20251003T190000Z
DESCRIPTION:Erinnerung an Simon Popp Trio
END:VALARM
END:VEVENT
END:VCALENDAR
