BEGIN:VCALENDAR
VERSION:2.0
PRODID:-//Jazzclub Leipzig e.V. //NONSGML Events //EN
CALSCALE:GREGORIAN
X-WR-CALNAME:Jazzclub Leipzig e.V.
BEGIN:VEVENT
X-CREATED:20250925T104121Z
UID:36769
DTEND;VALUE=DATE:20251018T210000
DTSTART;VALUE=DATE:20251018T190000
DTSTAMP:20260422T092659Z
LOCATION:Oper 
DESCRIPTION:Holt die Weltkarten, Mikroskope und Messlatten heraus! Denn an diesem Abend zählen nicht nur die musikalischen Maßstäbe. Zunächst wendet sich nämlich der Blick von Potsa Lotsa XL den beinah unsichtbaren Wundertieren zu: Amöben werden mit grandiosen Big-Band-Sounds und live-animations auf der Bühne zum Tanzen gebracht. Von der mikroskopischen zur Weltkarten-Größe herauszoomend wechselt man den Kontinent. Auf dem aus Westafrika kommenden Balafon versetzt Aly Keïta die Bühne mit seiner Klangvielfalt ins Beben.
SUMMARY:Potsa Lotsa XL/ Aly Keïta/ Bobo Stenson Trio
ORGANIZER:Jazzclub Leipzig e.V.
URL;VALUE=URI:https://www.jazzclub-leipzig.de/kategorie-jazzkalender/potsa-lotsa-xl-aly-keita-bobo-stenson-trio/
TRANSP:OPAQUE
BEGIN:VALARM
ACTION:DISPLAY
TRIGGER;VALUE=DATE-TIME:20251018T180000Z
DESCRIPTION:Erinnerung an Potsa Lotsa XL/ Aly Keïta/ Bobo Stenson Trio
END:VALARM
END:VEVENT
END:VCALENDAR
