BEGIN:VCALENDAR
VERSION:2.0
PRODID:-//Jazzclub Leipzig e.V. //NONSGML Events //EN
CALSCALE:GREGORIAN
X-WR-CALNAME:Jazzclub Leipzig e.V.
BEGIN:VEVENT
X-CREATED:20250925T100743Z
UID:36764
DTEND;VALUE=DATE:20251013T213000
DTSTART;VALUE=DATE:20251013T193000
DTSTAMP:20260422T092722Z
LOCATION:Schaubühne Lindenfels (Saal)
DESCRIPTION:»Back to the future« ist in gewisser Weise auch ein Leitsatz für manche Jazzmusik. Besteht ja häufig zwischen der Rückbesinnung auf Tradition und den dadurch entstehenden neuen Ausdrucksformen ein erstrebenswertes Gleichgewicht.
SUMMARY:Patricia Brennan / SHABAKA & Nduduzo Makhathini
ORGANIZER:Jazzclub Leipzig e.V.
URL;VALUE=URI:https://www.jazzclub-leipzig.de/kategorie-jazzkalender/patricia-brennan-shabaka-nduduzo-makhathini/
TRANSP:OPAQUE
BEGIN:VALARM
ACTION:DISPLAY
TRIGGER;VALUE=DATE-TIME:20251013T183000Z
DESCRIPTION:Erinnerung an Patricia Brennan / SHABAKA &amp\; Nduduzo Makhathini
END:VALARM
END:VEVENT
END:VCALENDAR
