BEGIN:VCALENDAR
VERSION:2.0
PRODID:-//Jazzclub Leipzig e.V. //NONSGML Events //EN
CALSCALE:GREGORIAN
X-WR-CALNAME:Jazzclub Leipzig e.V.
BEGIN:VEVENT
X-CREATED:20250925T093042Z
UID:36748
DTEND;VALUE=DATE:20251018T220000
DTSTART;VALUE=DATE:20251018T200000
DTSTAMP:20260422T105852Z
LOCATION:Horns Erben
DESCRIPTION:Die Wiener Singer Songwriterin Elsa Steixner verbindet kompositorische Traditionslinien von Nina Simone über Abdullah Ibrahim zu Joni Mitchell. Dabei verweilt sie nicht bei diesen vergangenen Größen, sondern weiß mit ihrer […]
SUMMARY:ELSA Release Tour 2025 – Jazz/Blues/Singer-Songwriter
ORGANIZER:Jazzclub Leipzig e.V.
URL;VALUE=URI:https://www.jazzclub-leipzig.de/kategorie-jazzkalender/elsa-release-tour-2025-jazz-blues-singer-songwriter/
TRANSP:OPAQUE
BEGIN:VALARM
ACTION:DISPLAY
TRIGGER;VALUE=DATE-TIME:20251018T190000Z
DESCRIPTION:Erinnerung an ELSA Release Tour 2025 – Jazz/Blues/Singer-Songwriter
END:VALARM
END:VEVENT
END:VCALENDAR
