BEGIN:VCALENDAR
VERSION:2.0
PRODID:-//Jazzclub Leipzig e.V. //NONSGML Events //EN
CALSCALE:GREGORIAN
X-WR-CALNAME:Jazzclub Leipzig e.V.
BEGIN:VEVENT
X-CREATED:20250925T092438Z
UID:36742
DTEND;VALUE=DATE:20251018T213000
DTSTART;VALUE=DATE:20251018T193000
DTSTAMP:20260422T152438Z
LOCATION:Neue Sächsische Galerie(Jazzclub FUCHS e.V./Chemnitz)
DESCRIPTION:Ein Dialog auf Ohrenhöhe, wo Freejazz aus der DDR mit Avantgarde der aktuellen Berliner Szene zusammengebracht werden. So geht instant composing, das Genregrenzen aufhebt und eine einzigartige Begegnung zweier Jazzvirtuosen […]
SUMMARY:Conny Bauer & Louis Rastig
ORGANIZER:Jazzclub Leipzig e.V.
URL;VALUE=URI:https://www.jazzclub-leipzig.de/kategorie-jazzkalender/conny-bauer-louis-rastig/
TRANSP:OPAQUE
BEGIN:VALARM
ACTION:DISPLAY
TRIGGER;VALUE=DATE-TIME:20251018T183000Z
DESCRIPTION:Erinnerung an Conny Bauer &amp\; Louis Rastig
END:VALARM
END:VEVENT
END:VCALENDAR
