BEGIN:VCALENDAR
VERSION:2.0
PRODID:-//Jazzclub Leipzig e.V. //NONSGML Events //EN
CALSCALE:GREGORIAN
X-WR-CALNAME:Jazzclub Leipzig e.V.
BEGIN:VEVENT
X-CREATED:20250925T085206Z
UID:36713
DTEND;VALUE=DATE:20251001T220000
DTSTART;VALUE=DATE:20251001T200000
DTSTAMP:20260422T150009Z
LOCATION:Kulturnhalle
DESCRIPTION:Das Trio ist bekannt für seine fingerfertige Improvisation und seinen gewagten Humor. Seit 25 Jahren spielen sie schon miteinander und bieten an diesem Abend ihren unverwechselbaren Sound: eine Mischung aus […]
SUMMARY:NAIL
ORGANIZER:Jazzclub Leipzig e.V.
URL;VALUE=URI:https://www.jazzclub-leipzig.de/kategorie-jazzkalender/nail-3/
TRANSP:OPAQUE
BEGIN:VALARM
ACTION:DISPLAY
TRIGGER;VALUE=DATE-TIME:20251001T190000Z
DESCRIPTION:Erinnerung an NAIL
END:VALARM
END:VEVENT
END:VCALENDAR
