BEGIN:VCALENDAR
VERSION:2.0
PRODID:-//Jazzclub Leipzig e.V. //NONSGML Events //EN
CALSCALE:GREGORIAN
X-WR-CALNAME:Jazzclub Leipzig e.V.
BEGIN:VEVENT
X-CREATED:20250911T085710Z
UID:36405
DTEND;VALUE=DATE:20251018T210000
DTSTART;VALUE=DATE:20251018T190000
DTSTAMP:20260422T105941Z
LOCATION:Oper Leipzig \, Augustuspl. 12\,  04109 Leipzig
DESCRIPTION:Exklusiver Deutschland-Termin: Die Koryphäe des europäischen Piano-Jazz gastiert in Leipzig.; ; Triplekonzert mit Potsa Lotsa XL und Aly Keïta.
SUMMARY:Bobo Stenson Trio
ORGANIZER:Jazzclub Leipzig e.V.
URL;VALUE=URI:https://www.jazzclub-leipzig.de/kategorie-jazzclub/bobo-stenson-trio-2/
TRANSP:OPAQUE
BEGIN:VALARM
ACTION:DISPLAY
TRIGGER;VALUE=DATE-TIME:20251018T180000Z
DESCRIPTION:Erinnerung an Bobo Stenson Trio
END:VALARM
END:VEVENT
END:VCALENDAR
