BEGIN:VCALENDAR
VERSION:2.0
PRODID:-//Jazzclub Leipzig e.V. //NONSGML Events //EN
CALSCALE:GREGORIAN
X-WR-CALNAME:Jazzclub Leipzig e.V.
BEGIN:VEVENT
X-CREATED:20250909T084754Z
UID:36401
DTEND;VALUE=DATE:20251014T230000
DTSTART;VALUE=DATE:20251014T210000
DTSTAMP:20260419T134145Z
LOCATION:Horns Erben\, Arndtstraße 33\, 04275 Leipzig
DESCRIPTION:Fragil, telepathisch und explosiv: der »Jazz von heute« aus dem hohen Norden.
SUMMARY:Emmeluth’s Amoeba #2
ORGANIZER:Jazzclub Leipzig e.V.
URL;VALUE=URI:https://www.jazzclub-leipzig.de/kategorie-jazzclub/emmeluths-amoeba-2/
TRANSP:OPAQUE
BEGIN:VALARM
ACTION:DISPLAY
TRIGGER;VALUE=DATE-TIME:20251014T200000Z
DESCRIPTION:Erinnerung an Emmeluth&#8217\;s Amoeba #2
END:VALARM
END:VEVENT
END:VCALENDAR
