BEGIN:VCALENDAR
VERSION:2.0
PRODID:-//Jazzclub Leipzig e.V. //NONSGML Events //EN
CALSCALE:GREGORIAN
X-WR-CALNAME:Jazzclub Leipzig e.V.
BEGIN:VEVENT
X-CREATED:20250910T121743Z
UID:36333
DTEND;VALUE=DATE:20251012T130000
DTSTART;VALUE=DATE:20251012T110000
DTSTAMP:20260419T134143Z
LOCATION:Neues Schauspiel Leipzig\, Lützner Straße 29\,  04177 Leipzig
DESCRIPTION:Alle einsteigen: Kommt mit auf die Entdeckungsreise des kleinen Prinzen – durch ein Universum voller wundersamer Wesen und wunderbarer Musik!
SUMMARY:Raumpatrouille Sumsemann: »Der kleine Prinz« (Jazz für Kinder)
ORGANIZER:Jazzclub Leipzig e.V.
URL;VALUE=URI:https://www.jazzclub-leipzig.de/kategorie-jazzclub/raumpatrouille-sumsemann-der-kleine-prinz-jazz-fuer-kinder/
TRANSP:OPAQUE
BEGIN:VALARM
ACTION:DISPLAY
TRIGGER;VALUE=DATE-TIME:20251012T100000Z
DESCRIPTION:Erinnerung an Raumpatrouille Sumsemann: »Der kleine Prinz« (Jazz für Kinder)
END:VALARM
END:VEVENT
END:VCALENDAR
