BEGIN:VCALENDAR
VERSION:2.0
PRODID:-//Jazzclub Leipzig e.V. //NONSGML Events //EN
CALSCALE:GREGORIAN
X-WR-CALNAME:Jazzclub Leipzig e.V.
BEGIN:VEVENT
X-CREATED:20250910T115302Z
UID:36331
DTEND;VALUE=DATE:20251018T210000
DTSTART;VALUE=DATE:20251018T190000
DTSTAMP:20260422T105852Z
LOCATION:Oper Leipzig \, Augustuspl. 12\,  04109 Leipzig
DESCRIPTION:Der internationale Star des Balafons begeistert mit virtuosen Klangkulissen.; ; Triplekonzert mit Potsa Lotsa XL und Bobo Stenson Trio.
SUMMARY:Aly Keïta
ORGANIZER:Jazzclub Leipzig e.V.
URL;VALUE=URI:https://www.jazzclub-leipzig.de/kategorie-jazzclub/aly-keita/
TRANSP:OPAQUE
BEGIN:VALARM
ACTION:DISPLAY
TRIGGER;VALUE=DATE-TIME:20251018T180000Z
DESCRIPTION:Erinnerung an Aly Keïta
END:VALARM
END:VEVENT
END:VCALENDAR
