BEGIN:VCALENDAR
VERSION:2.0
PRODID:-//Jazzclub Leipzig e.V. //NONSGML Events //EN
CALSCALE:GREGORIAN
X-WR-CALNAME:Jazzclub Leipzig e.V.
BEGIN:VEVENT
X-CREATED:20250910T090612Z
UID:36312
DTEND;VALUE=DATE:20251017T200000
DTSTART;VALUE=DATE:20251017T180000
DTSTAMP:20260419T134159Z
LOCATION:UT Connewitz\, Wolfgang-Heinze-Straße 12 a\, 04277 Leipzig
DESCRIPTION:Kaputte Maschinen in der »strukturierten Strukturlosigkeit«: Der neue estnische Jazzsound des 21. Jahrhunderts! Konzert inkl. Podiumsdiskussion.
SUMMARY:Karja/Renard/Wandinger: GEFAHR / DANGER / OHT
ORGANIZER:Jazzclub Leipzig e.V.
URL;VALUE=URI:https://www.jazzclub-leipzig.de/kategorie-jazzclub/karja-renard-wandinger-gefahr-danger-oht/
TRANSP:OPAQUE
BEGIN:VALARM
ACTION:DISPLAY
TRIGGER;VALUE=DATE-TIME:20251017T170000Z
DESCRIPTION:Erinnerung an Karja/Renard/Wandinger: GEFAHR / DANGER / OHT
END:VALARM
END:VEVENT
END:VCALENDAR
