BEGIN:VCALENDAR
VERSION:2.0
PRODID:-//Jazzclub Leipzig e.V. //NONSGML Events //EN
CALSCALE:GREGORIAN
X-WR-CALNAME:Jazzclub Leipzig e.V.
BEGIN:VEVENT
X-CREATED:20250910T085836Z
UID:36310
DTEND;VALUE=DATE:20251017T000000
DTSTART;VALUE=DATE:20251016T220000
DTSTAMP:20260422T175501Z
LOCATION:UT Connewitz\, Wolfgang-Heinze-Straße 12 a\, 04277 Leipzig
DESCRIPTION:Musikgeschichte und Gegenwart: Die Rückkehr des »Gentleman of Jazz«!
SUMMARY:Dave Holland Trio
ORGANIZER:Jazzclub Leipzig e.V.
URL;VALUE=URI:https://www.jazzclub-leipzig.de/kategorie-jazzclub/dave-holland-trio/
TRANSP:OPAQUE
BEGIN:VALARM
ACTION:DISPLAY
TRIGGER;VALUE=DATE-TIME:20251016T210000Z
DESCRIPTION:Erinnerung an Dave Holland Trio
END:VALARM
END:VEVENT
END:VCALENDAR
