BEGIN:VCALENDAR
VERSION:2.0
PRODID:-//Jazzclub Leipzig e.V. //NONSGML Events //EN
CALSCALE:GREGORIAN
X-WR-CALNAME:Jazzclub Leipzig e.V.
BEGIN:VEVENT
X-CREATED:20250910T084811Z
UID:36306
DTEND;VALUE=DATE:20251016T213000
DTSTART;VALUE=DATE:20251016T193000
DTSTAMP:20260422T090719Z
LOCATION:UT Connewitz\, Wolfgang-Heinze-Straße 12 a\, 04277 Leipzig
DESCRIPTION:Der Soundtrack der Gegenwart – präsentiert vom preisgekrönten Senkrechtstarter!;
SUMMARY:Immanuel Wilkins Quartet
ORGANIZER:Jazzclub Leipzig e.V.
URL;VALUE=URI:https://www.jazzclub-leipzig.de/kategorie-jazzclub/immanuel-wilkins-quartet/
TRANSP:OPAQUE
BEGIN:VALARM
ACTION:DISPLAY
TRIGGER;VALUE=DATE-TIME:20251016T183000Z
DESCRIPTION:Erinnerung an Immanuel Wilkins Quartet
END:VALARM
END:VEVENT
END:VCALENDAR
