BEGIN:VCALENDAR
VERSION:2.0
PRODID:-//Jazzclub Leipzig e.V. //NONSGML Events //EN
CALSCALE:GREGORIAN
X-WR-CALNAME:Jazzclub Leipzig e.V.
BEGIN:VEVENT
X-CREATED:20250910T081908Z
UID:36297
DTEND;VALUE=DATE:20251015T210000
DTSTART;VALUE=DATE:20251015T190000
DTSTAMP:20260419T134144Z
LOCATION:UT Connewitz\, Wolfgang-Heinze-Straße 12 a\, 04277 Leipzig
DESCRIPTION:Doppelkonzert mit Luca Sisera SENZA PESO.; ; Post-jugoslawische Lyrik im Avantgarde- und Prog-Gewand. Mit internationaler All-Star-Besetzung.
SUMMARY:Jelena Kuljić »Fundamental Interactions«
ORGANIZER:Jazzclub Leipzig e.V.
URL;VALUE=URI:https://www.jazzclub-leipzig.de/kategorie-jazzclub/jelena-kuljic-fundamental-interactions/
TRANSP:OPAQUE
BEGIN:VALARM
ACTION:DISPLAY
TRIGGER;VALUE=DATE-TIME:20251015T180000Z
DESCRIPTION:Erinnerung an Jelena Kuljić »Fundamental Interactions«
END:VALARM
END:VEVENT
END:VCALENDAR
