BEGIN:VCALENDAR
VERSION:2.0
PRODID:-//Jazzclub Leipzig e.V. //NONSGML Events //EN
CALSCALE:GREGORIAN
X-WR-CALNAME:Jazzclub Leipzig e.V.
BEGIN:VEVENT
X-CREATED:20250910T081136Z
UID:36293
DTEND;VALUE=DATE:20251015T210000
DTSTART;VALUE=DATE:20251015T190000
DTSTAMP:20260422T163053Z
LOCATION:UT Connewitz\, Wolfgang-Heinze-Straße 12 a\, 04277 Leipzig
DESCRIPTION:Doppelkonzert mit Jelena Kuljić "Fundamental Interactions".; Ein gemeinsamer Resonanzraum zwischen Bühne und Publikum – SENZA PESO macht es möglich.;
SUMMARY:Luca Sisera SENZA PESO
ORGANIZER:Jazzclub Leipzig e.V.
URL;VALUE=URI:https://www.jazzclub-leipzig.de/kategorie-jazzclub/luca-sisera-senza-peso/
TRANSP:OPAQUE
BEGIN:VALARM
ACTION:DISPLAY
TRIGGER;VALUE=DATE-TIME:20251015T180000Z
DESCRIPTION:Erinnerung an Luca Sisera SENZA PESO
END:VALARM
END:VEVENT
END:VCALENDAR
