BEGIN:VCALENDAR
VERSION:2.0
PRODID:-//Jazzclub Leipzig e.V. //NONSGML Events //EN
CALSCALE:GREGORIAN
X-WR-CALNAME:Jazzclub Leipzig e.V.
BEGIN:VEVENT
X-CREATED:20250910T080028Z
UID:36285
DTEND;VALUE=DATE:20251014T230000
DTSTART;VALUE=DATE:20251014T210000
DTSTAMP:20260419T134200Z
LOCATION:Schaubühne Lindenfels\, Karl-Heine-Straße 50\, 04229 Leipzig
DESCRIPTION:Afro-peruanische Klänge treffen auf rhythmische Dekonstruktion und komplexe Elektronik.; Doppelkonzert mit Witch 'n' Monk. ;
SUMMARY:Agua Dulce
ORGANIZER:Jazzclub Leipzig e.V.
URL;VALUE=URI:https://www.jazzclub-leipzig.de/kategorie-jazzclub/agua-dulce/
TRANSP:OPAQUE
BEGIN:VALARM
ACTION:DISPLAY
TRIGGER;VALUE=DATE-TIME:20251014T200000Z
DESCRIPTION:Erinnerung an Agua Dulce
END:VALARM
END:VEVENT
END:VCALENDAR
