BEGIN:VCALENDAR
VERSION:2.0
PRODID:-//Jazzclub Leipzig e.V. //NONSGML Events //EN
CALSCALE:GREGORIAN
X-WR-CALNAME:Jazzclub Leipzig e.V.
BEGIN:VEVENT
X-CREATED:20250910T074857Z
UID:36280
DTEND;VALUE=DATE:20251012T213000
DTSTART;VALUE=DATE:20251012T193000
DTSTAMP:20260419T134159Z
LOCATION:Passage Kinos \, Hainstraße 19a\, 04109 Leipzig
DESCRIPTION:Bemerkenswertes Porträt einer Pionierin des Jazz: Jutta Hipps mutiger Lebensweg von Leipzig in die weite Welt. FILM-PREMIERE!
SUMMARY:Being Hipp: First Lady of European Jazz (Filmpremiere)
ORGANIZER:Jazzclub Leipzig e.V.
URL;VALUE=URI:https://www.jazzclub-leipzig.de/kategorie-jazzclub/filmpremiere-being-hipp/
TRANSP:OPAQUE
BEGIN:VALARM
ACTION:DISPLAY
TRIGGER;VALUE=DATE-TIME:20251012T183000Z
DESCRIPTION:Erinnerung an Being Hipp: First Lady of European Jazz (Filmpremiere)
END:VALARM
END:VEVENT
END:VCALENDAR
