BEGIN:VCALENDAR
VERSION:2.0
PRODID:-//Jazzclub Leipzig e.V. //NONSGML Events //EN
CALSCALE:GREGORIAN
X-WR-CALNAME:Jazzclub Leipzig e.V.
BEGIN:VEVENT
X-CREATED:20250829T090359Z
UID:36269
DTEND;VALUE=DATE:20250910T220000
DTSTART;VALUE=DATE:20250910T200000
DTSTAMP:20260422T164756Z
LOCATION:Kulturnhalle
DESCRIPTION:Auftaktkonzert der neuen Saison von Feet Become Ears gibt das New Yorker Quartett, das auf den Spuren Olivier Messiaen’s schon in ganz Europa und Amerika überzeugte und an diesem Abend […]
SUMMARY:Feet Become Ears Vol. 5 : Anzû Quartet & Anthony Romaniuk
ORGANIZER:Jazzclub Leipzig e.V.
URL;VALUE=URI:https://www.jazzclub-leipzig.de/kategorie-jazzkalender/feet-become-ears-vol-5-anzu-quartet-anthony-romaniuk/
TRANSP:OPAQUE
BEGIN:VALARM
ACTION:DISPLAY
TRIGGER;VALUE=DATE-TIME:20250910T190000Z
DESCRIPTION:Erinnerung an Feet Become Ears Vol. 5 : Anzû Quartet &#038\; Anthony Romaniuk
END:VALARM
END:VEVENT
END:VCALENDAR
