BEGIN:VCALENDAR
VERSION:2.0
PRODID:-//Jazzclub Leipzig e.V. //NONSGML Events //EN
CALSCALE:GREGORIAN
X-WR-CALNAME:Jazzclub Leipzig e.V.
BEGIN:VEVENT
X-CREATED:20250829T075506Z
UID:36267
DTEND;VALUE=DATE:20250909T220000
DTSTART;VALUE=DATE:20250909T200000
DTSTAMP:20260422T175500Z
LOCATION:Kulturnhalle
DESCRIPTION:Der in Brüssel lebende Klangforscher verwendet einen radikal-reduktionistischen Ansatz in der Erkundung von neuen elektronischen Sounds. Mit äußerster Genauigkeit und Beharrlichkeit bringt er aus analog elektronischen Quellen und Instrumenten bei […]
SUMMARY:D´INCISE
ORGANIZER:Jazzclub Leipzig e.V.
URL;VALUE=URI:https://www.jazzclub-leipzig.de/kategorie-jazzkalender/dincise/
TRANSP:OPAQUE
BEGIN:VALARM
ACTION:DISPLAY
TRIGGER;VALUE=DATE-TIME:20250909T190000Z
DESCRIPTION:Erinnerung an D´INCISE
END:VALARM
END:VEVENT
END:VCALENDAR
