BEGIN:VCALENDAR
VERSION:2.0
PRODID:-//Jazzclub Leipzig e.V. //NONSGML Events //EN
CALSCALE:GREGORIAN
X-WR-CALNAME:Jazzclub Leipzig e.V.
BEGIN:VEVENT
X-CREATED:20250827T071706Z
UID:36255
DTEND;VALUE=DATE:20250920T220000
DTSTART;VALUE=DATE:20250920T200000
DTSTAMP:20260422T183905Z
LOCATION:HP7
DESCRIPTION:Bei RADIOLUX verschmelzen Jazzelemente von Fabian Niermann und elektronische Klänge und Fieldrecordings von Marek Brandt mit den live und analog erzeugten Animationen von Inka Perl. Fantasie wird zum Kompass einer […]
SUMMARY:RADIOLUX
ORGANIZER:Jazzclub Leipzig e.V.
URL;VALUE=URI:https://www.jazzclub-leipzig.de/kategorie-jazzkalender/radiolux-2/
TRANSP:OPAQUE
BEGIN:VALARM
ACTION:DISPLAY
TRIGGER;VALUE=DATE-TIME:20250920T190000Z
DESCRIPTION:Erinnerung an RADIOLUX
END:VALARM
END:VEVENT
END:VCALENDAR
