BEGIN:VCALENDAR
VERSION:2.0
PRODID:-//Jazzclub Leipzig e.V. //NONSGML Events //EN
CALSCALE:GREGORIAN
X-WR-CALNAME:Jazzclub Leipzig e.V.
BEGIN:VEVENT
X-CREATED:20250825T101720Z
UID:36233
DTEND;VALUE=DATE:20250930T220000
DTSTART;VALUE=DATE:20250930T200000
DTSTAMP:20260422T174257Z
LOCATION:Blue Note Dresden
DESCRIPTION:Mit einem auch in Leipzig von der HMT Big-Band bekannten Frontmann tritt das Paulinus Stegner Quartett mit Eigenkompositionen im Blue Note auf. Diese bestehen aus einer Mischung aus Post-Bop und […]
SUMMARY:Paulinus Stegner Quartett
ORGANIZER:Jazzclub Leipzig e.V.
URL;VALUE=URI:https://www.jazzclub-leipzig.de/kategorie-jazzkalender/paulinus-stegner-quartett/
TRANSP:OPAQUE
BEGIN:VALARM
ACTION:DISPLAY
TRIGGER;VALUE=DATE-TIME:20250930T190000Z
DESCRIPTION:Erinnerung an Paulinus Stegner Quartett
END:VALARM
END:VEVENT
END:VCALENDAR
