BEGIN:VCALENDAR
VERSION:2.0
PRODID:-//Jazzclub Leipzig e.V. //NONSGML Events //EN
CALSCALE:GREGORIAN
X-WR-CALNAME:Jazzclub Leipzig e.V.
BEGIN:VEVENT
X-CREATED:20250825T101028Z
UID:36228
DTEND;VALUE=DATE:20250929T220000
DTSTART;VALUE=DATE:20250929T200000
DTSTAMP:20260422T165039Z
LOCATION:Naumanns Tanzlokal
DESCRIPTION:Zu einem 30-Jährigen Jubiläum gehört ein Jubiläumsalbum und natürlich auch eine Jubiläumstour. Dafür reflektiert die aus Ungarn stammende Band ihre lange Geschichte, bringt aber auch Neues auf den Tisch. Das […]
SUMMARY:Söndörgő
ORGANIZER:Jazzclub Leipzig e.V.
URL;VALUE=URI:https://www.jazzclub-leipzig.de/kategorie-jazzkalender/soendoergo/
TRANSP:OPAQUE
BEGIN:VALARM
ACTION:DISPLAY
TRIGGER;VALUE=DATE-TIME:20250929T190000Z
DESCRIPTION:Erinnerung an Söndörgő
END:VALARM
END:VEVENT
END:VCALENDAR
