BEGIN:VCALENDAR
VERSION:2.0
PRODID:-//Jazzclub Leipzig e.V. //NONSGML Events //EN
CALSCALE:GREGORIAN
X-WR-CALNAME:Jazzclub Leipzig e.V.
BEGIN:VEVENT
X-CREATED:20250825T100513Z
UID:36224
DTEND;VALUE=DATE:20250927T220000
DTSTART;VALUE=DATE:20250927T200000
DTSTAMP:20260422T175417Z
LOCATION:Objekt 5 (Halle)
DESCRIPTION:Mit 25 Jahren Erfahrung ist die Bluesband schon ein Urgestein in Halle. Traditioneller Blues wird kombiniert mit seinen Varianten der 40er und 50er Jahren. Statt Schwer- steht Frohmut an erster […]
SUMMARY:Rollercoaster (hal)
ORGANIZER:Jazzclub Leipzig e.V.
URL;VALUE=URI:https://www.jazzclub-leipzig.de/kategorie-jazzkalender/rollercoaster-hal/
TRANSP:OPAQUE
BEGIN:VALARM
ACTION:DISPLAY
TRIGGER;VALUE=DATE-TIME:20250927T190000Z
DESCRIPTION:Erinnerung an Rollercoaster (hal)
END:VALARM
END:VEVENT
END:VCALENDAR
