BEGIN:VCALENDAR
VERSION:2.0
PRODID:-//Jazzclub Leipzig e.V. //NONSGML Events //EN
CALSCALE:GREGORIAN
X-WR-CALNAME:Jazzclub Leipzig e.V.
BEGIN:VEVENT
X-CREATED:20250825T100233Z
UID:36222
DTEND;VALUE=DATE:20250927T220000
DTSTART;VALUE=DATE:20250927T200000
DTSTAMP:20260422T180803Z
LOCATION:Horns Erben
DESCRIPTION:Wen die klassischen Genregrenzen schon lange nicht mehr interessieren, kann sich auf einen Abend mit »Milonaut-Sound« freuen. Denn der ist gar nicht so genau bestimmbar: zwischen Radiohead, Pink Floyd und […]
SUMMARY:Milonaut – Spheric Soundscapes & Bouncy Beats
ORGANIZER:Jazzclub Leipzig e.V.
URL;VALUE=URI:https://www.jazzclub-leipzig.de/kategorie-jazzkalender/milonaut-spheric-soundscapes-bouncy-beats-2/
TRANSP:OPAQUE
BEGIN:VALARM
ACTION:DISPLAY
TRIGGER;VALUE=DATE-TIME:20250927T190000Z
DESCRIPTION:Erinnerung an Milonaut – Spheric Soundscapes &amp\; Bouncy Beats
END:VALARM
END:VEVENT
END:VCALENDAR
