BEGIN:VCALENDAR
VERSION:2.0
PRODID:-//Jazzclub Leipzig e.V. //NONSGML Events //EN
CALSCALE:GREGORIAN
X-WR-CALNAME:Jazzclub Leipzig e.V.
BEGIN:VEVENT
X-CREATED:20250825T095956Z
UID:36220
DTEND;VALUE=DATE:20250926T220000
DTSTART;VALUE=DATE:20250926T200000
DTSTAMP:20260422T195611Z
LOCATION:Kupfersaal
DESCRIPTION:Das mehrfach preisgekrönte Quartett bringt einen an die Strände Lateinamerikas mit Samba und Bossa Nova. Und auch Wohlfühlhits wie »Don’t Worry Be Happy« sind in ihrem Repertoire zu finden. Zuletzt […]
SUMMARY:Quadro Nuevo – Happy Deluxe
ORGANIZER:Jazzclub Leipzig e.V.
URL;VALUE=URI:https://www.jazzclub-leipzig.de/kategorie-jazzkalender/quadro-nuevo-happy-deluxe/
TRANSP:OPAQUE
BEGIN:VALARM
ACTION:DISPLAY
TRIGGER;VALUE=DATE-TIME:20250926T190000Z
DESCRIPTION:Erinnerung an Quadro Nuevo &#8211\; Happy Deluxe
END:VALARM
END:VEVENT
END:VCALENDAR
