BEGIN:VCALENDAR
VERSION:2.0
PRODID:-//Jazzclub Leipzig e.V. //NONSGML Events //EN
CALSCALE:GREGORIAN
X-WR-CALNAME:Jazzclub Leipzig e.V.
BEGIN:VEVENT
X-CREATED:20250825T095743Z
UID:36218
DTEND;VALUE=DATE:20250926T220000
DTSTART;VALUE=DATE:20250926T200000
DTSTAMP:20260422T182054Z
LOCATION:Horns Erben
DESCRIPTION:»Under the same Stars« heißt das neue Album der zwei auf dem Jazzhimmel aufsteigenden, jungen stars. Die letzten Jahre konnten sie nämlich jeweils für viel Aufmerksamkeit und Anerkennung in der […]
SUMMARY:Shuteen Erdenebaatar & Nils Kugelmann – Modern Jazz Duo
ORGANIZER:Jazzclub Leipzig e.V.
URL;VALUE=URI:https://www.jazzclub-leipzig.de/kategorie-jazzkalender/shuteen-erdenebaatar-nils-kugelmann-modern-jazz-duo/
TRANSP:OPAQUE
BEGIN:VALARM
ACTION:DISPLAY
TRIGGER;VALUE=DATE-TIME:20250926T190000Z
DESCRIPTION:Erinnerung an Shuteen Erdenebaatar &amp\; Nils Kugelmann – Modern Jazz Duo
END:VALARM
END:VEVENT
END:VCALENDAR
