BEGIN:VCALENDAR
VERSION:2.0
PRODID:-//Jazzclub Leipzig e.V. //NONSGML Events //EN
CALSCALE:GREGORIAN
X-WR-CALNAME:Jazzclub Leipzig e.V.
BEGIN:VEVENT
X-CREATED:20250825T095537Z
UID:36216
DTEND;VALUE=DATE:20250925T220000
DTSTART;VALUE=DATE:20250925T200000
DTSTAMP:20260422T200615Z
LOCATION:UT Connewitz
DESCRIPTION:Demokratie und Universalimus stehen bei Ozan Ata Canani in seinem Alterswerk auf dem Programm. Seine türkischen und deutschen Lieder thematisieren dabei die aktuellen Möglichkeiten von Freundschaft und ihre Hindernisse durch […]
SUMMARY:Ozan Ata Canani & die Demokratie
ORGANIZER:Jazzclub Leipzig e.V.
URL;VALUE=URI:https://www.jazzclub-leipzig.de/kategorie-jazzkalender/ozan-ata-canani-die-demokratie/
TRANSP:OPAQUE
BEGIN:VALARM
ACTION:DISPLAY
TRIGGER;VALUE=DATE-TIME:20250925T190000Z
DESCRIPTION:Erinnerung an Ozan Ata Canani &amp\; die Demokratie
END:VALARM
END:VEVENT
END:VCALENDAR
