BEGIN:VCALENDAR
VERSION:2.0
PRODID:-//Jazzclub Leipzig e.V. //NONSGML Events //EN
CALSCALE:GREGORIAN
X-WR-CALNAME:Jazzclub Leipzig e.V.
BEGIN:VEVENT
X-CREATED:20250825T094440Z
UID:36207
DTEND;VALUE=DATE:20250923T220000
DTSTART;VALUE=DATE:20250923T200000
DTSTAMP:20260422T175419Z
LOCATION:Parkbühne Geyserhaus
DESCRIPTION:»Ich bin auf dem Weg und einer Reise, auf die Ich das Publikum mitnehmen möchte.« Und diese musikalische Reiseeinladung sollte jede:r annehmen, weil es keine präparierte, sondern eine ist, die […]
SUMMARY:Anna Ternheim Premonitions Tour
ORGANIZER:Jazzclub Leipzig e.V.
URL;VALUE=URI:https://www.jazzclub-leipzig.de/kategorie-jazzkalender/anna-ternheim-premonitions-tour/
TRANSP:OPAQUE
BEGIN:VALARM
ACTION:DISPLAY
TRIGGER;VALUE=DATE-TIME:20250923T190000Z
DESCRIPTION:Erinnerung an Anna Ternheim Premonitions Tour
END:VALARM
END:VEVENT
END:VCALENDAR
