BEGIN:VCALENDAR
VERSION:2.0
PRODID:-//Jazzclub Leipzig e.V. //NONSGML Events //EN
CALSCALE:GREGORIAN
X-WR-CALNAME:Jazzclub Leipzig e.V.
BEGIN:VEVENT
X-CREATED:20250825T094235Z
UID:36205
DTEND;VALUE=DATE:20250922T220000
DTSTART;VALUE=DATE:20250922T200000
DTSTAMP:20260422T181419Z
LOCATION:Kupfersaal
DESCRIPTION:Der Pianist Christian Christl hat in der Live-Musik Reihe »Bayoogie Masters« dieses Mal Frank Muschalle eingeladen. Muschalle hat sich bereits international einen Namen als begabter Blues- und Boogie-Woogie-Pianist gemacht. Gemeinsam […]
SUMMARY:Bayoogie Masters: Special Guest Frank Muschalle
ORGANIZER:Jazzclub Leipzig e.V.
URL;VALUE=URI:https://www.jazzclub-leipzig.de/kategorie-jazzkalender/bayoogie-masters-special-guest-frank-muschalle/
TRANSP:OPAQUE
BEGIN:VALARM
ACTION:DISPLAY
TRIGGER;VALUE=DATE-TIME:20250922T190000Z
DESCRIPTION:Erinnerung an Bayoogie Masters: Special Guest Frank Muschalle
END:VALARM
END:VEVENT
END:VCALENDAR
