BEGIN:VCALENDAR
VERSION:2.0
PRODID:-//Jazzclub Leipzig e.V. //NONSGML Events //EN
CALSCALE:GREGORIAN
X-WR-CALNAME:Jazzclub Leipzig e.V.
BEGIN:VEVENT
X-CREATED:20250825T093904Z
UID:36201
DTEND;VALUE=DATE:20250922T220000
DTSTART;VALUE=DATE:20250922T200000
DTSTAMP:20260422T180823Z
LOCATION:„ag(o)ra“ Schauspiel Leipzig
DESCRIPTION:Das Trio Regener Pappik Busch hat mittlerweile ihr drittes Album »Field of Lights« herausgebracht. Ihre Schwerpunkte haben sie hier auf Cool Jazz und Post Bop gesetzt. Neben eigenen Kompositionen werden […]
SUMMARY:Regener Pappik Busch: Jazz
ORGANIZER:Jazzclub Leipzig e.V.
URL;VALUE=URI:https://www.jazzclub-leipzig.de/kategorie-jazzkalender/regener-pappik-busch-jazz/
TRANSP:OPAQUE
BEGIN:VALARM
ACTION:DISPLAY
TRIGGER;VALUE=DATE-TIME:20250922T190000Z
DESCRIPTION:Erinnerung an Regener Pappik Busch: Jazz
END:VALARM
END:VEVENT
END:VCALENDAR
