BEGIN:VCALENDAR
VERSION:2.0
PRODID:-//Jazzclub Leipzig e.V. //NONSGML Events //EN
CALSCALE:GREGORIAN
X-WR-CALNAME:Jazzclub Leipzig e.V.
BEGIN:VEVENT
X-CREATED:20250825T093516Z
UID:36199
DTEND;VALUE=DATE:20250920T220000
DTSTART;VALUE=DATE:20250920T200000
DTSTAMP:20260422T175418Z
LOCATION:Jazzclub Tonne e.V. Dresden
DESCRIPTION:Nicht 505 in die Tonne kloppen, zu 505 in der Tonne rocken! Nur mit wenig Rock und dafür gutem Jazz, Triphop und Electronica. Ekklektisch und experimentell konnten die Drei schon […]
SUMMARY:505
ORGANIZER:Jazzclub Leipzig e.V.
URL;VALUE=URI:https://www.jazzclub-leipzig.de/kategorie-jazzkalender/505/
TRANSP:OPAQUE
BEGIN:VALARM
ACTION:DISPLAY
TRIGGER;VALUE=DATE-TIME:20250920T190000Z
DESCRIPTION:Erinnerung an 505
END:VALARM
END:VEVENT
END:VCALENDAR
