BEGIN:VCALENDAR
VERSION:2.0
PRODID:-//Jazzclub Leipzig e.V. //NONSGML Events //EN
CALSCALE:GREGORIAN
X-WR-CALNAME:Jazzclub Leipzig e.V.
BEGIN:VEVENT
X-CREATED:20250825T093223Z
UID:36196
DTEND;VALUE=DATE:20250920T210000
DTSTART;VALUE=DATE:20250920T190000
DTSTAMP:20260422T184757Z
LOCATION:Parkbühne Geyserhaus
DESCRIPTION:»Disco« klingt nach einem Echo aus verstaubt-vergangener Zeit. Aber nicht so bei Erobique, wo die letzten 50 Jahre Tanzmusik durch seine wegfegenden Improvisationen neues Leben gewinnen. Lebhaftes Tanzen und schweisstriefende […]
SUMMARY:Erobique – Open Air
ORGANIZER:Jazzclub Leipzig e.V.
URL;VALUE=URI:https://www.jazzclub-leipzig.de/kategorie-jazzkalender/erobique-open-air/
TRANSP:OPAQUE
BEGIN:VALARM
ACTION:DISPLAY
TRIGGER;VALUE=DATE-TIME:20250920T180000Z
DESCRIPTION:Erinnerung an Erobique – Open Air
END:VALARM
END:VEVENT
END:VCALENDAR
