BEGIN:VCALENDAR
VERSION:2.0
PRODID:-//Jazzclub Leipzig e.V. //NONSGML Events //EN
CALSCALE:GREGORIAN
X-WR-CALNAME:Jazzclub Leipzig e.V.
BEGIN:VEVENT
X-CREATED:20250825T092632Z
UID:36192
DTEND;VALUE=DATE:20250919T220000
DTSTART;VALUE=DATE:20250919T200000
DTSTAMP:20260422T195532Z
LOCATION:Horns Erben
DESCRIPTION:Bei der argentinischen Musikerin treffen Weltmusik und Pop aufeinander. Geschult an Mercedes Sosa und Tatiana Parra zeichnet sie mit ihrer sanften und leidenschaftlichen Stimme ein Bild ihrer Heimat Lateinamerika. Ihre […]
SUMMARY:Gaby Echevarría trío – World Music, Southamerican Music
ORGANIZER:Jazzclub Leipzig e.V.
URL;VALUE=URI:https://www.jazzclub-leipzig.de/kategorie-jazzkalender/gaby-echevarria-trio-world-music-southamerican-music/
TRANSP:OPAQUE
BEGIN:VALARM
ACTION:DISPLAY
TRIGGER;VALUE=DATE-TIME:20250919T190000Z
DESCRIPTION:Erinnerung an Gaby Echevarría trío – World Music\, Southamerican Music
END:VALARM
END:VEVENT
END:VCALENDAR
