BEGIN:VCALENDAR
VERSION:2.0
PRODID:-//Jazzclub Leipzig e.V. //NONSGML Events //EN
CALSCALE:GREGORIAN
X-WR-CALNAME:Jazzclub Leipzig e.V.
BEGIN:VEVENT
X-CREATED:20250825T092225Z
UID:36188
DTEND;VALUE=DATE:20250918T220000
DTSTART;VALUE=DATE:20250918T200000
DTSTAMP:20260422T204701Z
LOCATION:Noch Besser Leben
DESCRIPTION:»Get yourself together« heißt das Debütalbum, das das Berliner Duo Ende August herausbringen wird. Während der Covid-Pandemie, als die Art-Pop-Band sich formte, konnte sie sich mit ironischen lyrics, punkiger Attitüde […]
SUMMARY:Crow Baby
ORGANIZER:Jazzclub Leipzig e.V.
URL;VALUE=URI:https://www.jazzclub-leipzig.de/kategorie-jazzkalender/crow-baby/
TRANSP:OPAQUE
BEGIN:VALARM
ACTION:DISPLAY
TRIGGER;VALUE=DATE-TIME:20250918T190000Z
DESCRIPTION:Erinnerung an Crow Baby
END:VALARM
END:VEVENT
END:VCALENDAR
