BEGIN:VCALENDAR
VERSION:2.0
PRODID:-//Jazzclub Leipzig e.V. //NONSGML Events //EN
CALSCALE:GREGORIAN
X-WR-CALNAME:Jazzclub Leipzig e.V.
BEGIN:VEVENT
X-CREATED:20250825T090952Z
UID:36176
DTEND;VALUE=DATE:20250929T213000
DTSTART;VALUE=DATE:20250929T193000
DTSTAMP:20260422T111518Z
LOCATION:ThaterPACK
DESCRIPTION:In einem musikalischen Dialog versucht das australische Duo inmitten von Neo-Klassik, Improvisation und Volkslied seine eigen Sprache zu finden, so wie sie es schon in dem vor zwei Jahren erschienen […]
SUMMARY:Montagsjazz im Laden auf Zeit: Claire Cross & Harry Cook – Die Andacht
ORGANIZER:Jazzclub Leipzig e.V.
URL;VALUE=URI:https://www.jazzclub-leipzig.de/kategorie-jazzkalender/montagsjazz-im-laden-auf-zeit-claire-cross-harry-cook-die-andacht/
TRANSP:OPAQUE
BEGIN:VALARM
ACTION:DISPLAY
TRIGGER;VALUE=DATE-TIME:20250929T183000Z
DESCRIPTION:Erinnerung an Montagsjazz im Laden auf Zeit: Claire Cross &amp\; Harry Cook &#8211\; Die Andacht
END:VALARM
END:VEVENT
END:VCALENDAR
