BEGIN:VCALENDAR
VERSION:2.0
PRODID:-//Jazzclub Leipzig e.V. //NONSGML Events //EN
CALSCALE:GREGORIAN
X-WR-CALNAME:Jazzclub Leipzig e.V.
BEGIN:VEVENT
X-CREATED:20250825T090131Z
UID:36169
DTEND;VALUE=DATE:20250913T220000
DTSTART;VALUE=DATE:20250913T200000
DTSTAMP:20260422T195610Z
LOCATION:Mediencampus Villa Ida
DESCRIPTION:Der »Young Jazz Musician of the Year 2018« Xhosa Cole hat Anfang des Jahres sein fünftes Album veröffentlicht. Es widmet sich der Musik Thelonius Monks. Die Homage an die Jazz-Ikone […]
SUMMARY:Campus Jazz | Xhosa Cole Quartet | Freemonk (GB)
ORGANIZER:Jazzclub Leipzig e.V.
URL;VALUE=URI:https://www.jazzclub-leipzig.de/kategorie-jazzkalender/campus-jazz-xhosa-cole-quartet-freemonk-gb/
TRANSP:OPAQUE
BEGIN:VALARM
ACTION:DISPLAY
TRIGGER;VALUE=DATE-TIME:20250913T190000Z
DESCRIPTION:Erinnerung an Campus Jazz | Xhosa Cole Quartet | Freemonk (GB)
END:VALARM
END:VEVENT
END:VCALENDAR
