BEGIN:VCALENDAR
VERSION:2.0
PRODID:-//Jazzclub Leipzig e.V. //NONSGML Events //EN
CALSCALE:GREGORIAN
X-WR-CALNAME:Jazzclub Leipzig e.V.
BEGIN:VEVENT
X-CREATED:20250825T085312Z
UID:36160
DTEND;VALUE=DATE:20250910T223000
DTSTART;VALUE=DATE:20250910T203000
DTSTAMP:20260422T111529Z
LOCATION:Subbotnik
DESCRIPTION:Die Hausband spielt jeden Mittwoch Live-Jazz, wobei jede Woche neue Stücke und Spielweisen mit sich bringt • Eintritt frei
SUMMARY:TRIOS
ORGANIZER:Jazzclub Leipzig e.V.
URL;VALUE=URI:https://www.jazzclub-leipzig.de/kategorie-jazzkalender/trios-2/
TRANSP:OPAQUE
BEGIN:VALARM
ACTION:DISPLAY
TRIGGER;VALUE=DATE-TIME:20250910T193000Z
DESCRIPTION:Erinnerung an TRIOS
END:VALARM
END:VEVENT
END:VCALENDAR
