BEGIN:VCALENDAR
VERSION:2.0
PRODID:-//Jazzclub Leipzig e.V. //NONSGML Events //EN
CALSCALE:GREGORIAN
X-WR-CALNAME:Jazzclub Leipzig e.V.
BEGIN:VEVENT
X-CREATED:20250825T082446Z
UID:36133
DTEND;VALUE=DATE:20250905T220000
DTSTART;VALUE=DATE:20250905T200000
DTSTAMP:20260422T203352Z
LOCATION:Naumanns Tanzlokal
DESCRIPTION:Mit Blues, Soul und Rock-n-Roll führt das amerikanische Trio einen durch die Klangwelt Tom Waits‘. Seinem Songbook begegnen sie mit Wertschätzung wie auch Kritik und geben ihm damit einen neuen […]
SUMMARY:VKB (New York) – Ein Tom Waits-Projekt
ORGANIZER:Jazzclub Leipzig e.V.
URL;VALUE=URI:https://www.jazzclub-leipzig.de/kategorie-jazzkalender/vkb-new-york-ein-tom-waits-projekt/
TRANSP:OPAQUE
BEGIN:VALARM
ACTION:DISPLAY
TRIGGER;VALUE=DATE-TIME:20250905T190000Z
DESCRIPTION:Erinnerung an VKB (New York) &#8211\; Ein Tom Waits-Projekt
END:VALARM
END:VEVENT
END:VCALENDAR
