BEGIN:VCALENDAR
VERSION:2.0
PRODID:-//Jazzclub Leipzig e.V. //NONSGML Events //EN
CALSCALE:GREGORIAN
X-WR-CALNAME:Jazzclub Leipzig e.V.
BEGIN:VEVENT
X-CREATED:20250825T082208Z
UID:36131
DTEND;VALUE=DATE:20250905T220000
DTSTART;VALUE=DATE:20250905T200000
DTSTAMP:20260422T202608Z
LOCATION:Neues Schauspiel
DESCRIPTION:Diese Viererkonstellation musiziert nun schon seit über 35 Jahren gemeinsam. Dabei spannen sie den Bogen zwischen anspruchsvoller Musik und Unhaltung. Sie mischen verschiedene Genres wie Tango, Jazz, Milonga, Latin, Classic-recomposed, […]
SUMMARY:L’art de Passage – HORIZON
ORGANIZER:Jazzclub Leipzig e.V.
URL;VALUE=URI:https://www.jazzclub-leipzig.de/kategorie-jazzkalender/lart-de-passage-horizon/
TRANSP:OPAQUE
BEGIN:VALARM
ACTION:DISPLAY
TRIGGER;VALUE=DATE-TIME:20250905T190000Z
DESCRIPTION:Erinnerung an L&#8217\;art de Passage &#8211\; HORIZON
END:VALARM
END:VEVENT
END:VCALENDAR
