BEGIN:VCALENDAR
VERSION:2.0
PRODID:-//Jazzclub Leipzig e.V. //NONSGML Events //EN
CALSCALE:GREGORIAN
X-WR-CALNAME:Jazzclub Leipzig e.V.
BEGIN:VEVENT
X-CREATED:20250825T080412Z
UID:36119
DTEND;VALUE=DATE:20250903T210000
DTSTART;VALUE=DATE:20250903T190000
DTSTAMP:20260422T214841Z
LOCATION:Werk 2
DESCRIPTION:Die Singer-Songwriterin Cara Rose stammt aus Glasgow und erobert mittlerweile ganz Europa mit ihrer Performance. Was sie besonders auszeichnet, ist ihre eindringliche soulige Stimme
SUMMARY:Cara Rose
ORGANIZER:Jazzclub Leipzig e.V.
URL;VALUE=URI:https://www.jazzclub-leipzig.de/kategorie-jazzkalender/cara-rose/
TRANSP:OPAQUE
BEGIN:VALARM
ACTION:DISPLAY
TRIGGER;VALUE=DATE-TIME:20250903T180000Z
DESCRIPTION:Erinnerung an Cara Rose
END:VALARM
END:VEVENT
END:VCALENDAR
