BEGIN:VCALENDAR
VERSION:2.0
PRODID:-//Jazzclub Leipzig e.V. //NONSGML Events //EN
CALSCALE:GREGORIAN
X-WR-CALNAME:Jazzclub Leipzig e.V.
BEGIN:VEVENT
X-CREATED:20250822T131820Z
UID:36105
DTEND;VALUE=DATE:20251011T230000
DTSTART;VALUE=DATE:20251011T210000
DTSTAMP:20260419T134201Z
LOCATION:UT Connewitz\, Wolfgang-Heinze-Straße 12 a\,  04277 Leipzig
DESCRIPTION:Traumhafter Art-Pop von zwei legendären Groove-Virtuosen, die mit neuem Album auf Tour sind. Einziges Deutschlandkonzert!
SUMMARY:Pino Palladino & Blake Mills #1
ORGANIZER:Jazzclub Leipzig e.V.
URL;VALUE=URI:https://www.jazzclub-leipzig.de/kategorie-jazztage/pino-palladino-blake-mills/
TRANSP:OPAQUE
BEGIN:VALARM
ACTION:DISPLAY
TRIGGER;VALUE=DATE-TIME:20251011T200000Z
DESCRIPTION:Erinnerung an Pino Palladino &amp\; Blake Mills #1
END:VALARM
END:VEVENT
END:VCALENDAR
