BEGIN:VCALENDAR
VERSION:2.0
PRODID:-//Jazzclub Leipzig e.V. //NONSGML Events //EN
CALSCALE:GREGORIAN
X-WR-CALNAME:Jazzclub Leipzig e.V.
BEGIN:VEVENT
X-CREATED:20250822T085847Z
UID:36098
DTEND;VALUE=DATE:20250926T220000
DTSTART;VALUE=DATE:20250926T200000
DTSTAMP:20260422T214843Z
LOCATION:Neues Schauspiel
DESCRIPTION:Spricht man heute noch von Wundern? Ein wenig gestrig klingt es, damals gab es jedenfalls noch die Wunderkinder und Weltwunder und in einem anderen Früher hat man sich als Kind fröhlich über das Noch-Nicht-Verstandene gewundert. Vieles scheint sich heute in eine verformelte und berechnete Welt eingeordnet zu haben, wo kein Platz mehr für einen Sinn für Wunder und fürs Wundern ist: alles verfestigt, berechenbar und beherrscht – von AI gar nicht zu sprechen.
SUMMARY:Magnetic Ghost Orchestra
ORGANIZER:Jazzclub Leipzig e.V.
URL;VALUE=URI:https://www.jazzclub-leipzig.de/kategorie-jazzkalender/magnetic-ghost-orchestra-4/
TRANSP:OPAQUE
BEGIN:VALARM
ACTION:DISPLAY
TRIGGER;VALUE=DATE-TIME:20250926T190000Z
DESCRIPTION:Erinnerung an Magnetic Ghost Orchestra
END:VALARM
END:VEVENT
END:VCALENDAR
